Package: skewr
Version: 1.39.0
Command: /Library/Frameworks/R.framework/Resources/bin/R CMD build --keep-empty-dirs --no-resave-data skewr
StartedAt: 2025-02-19 18:19:03 -0500 (Wed, 19 Feb 2025)
EndedAt: 2025-02-19 18:21:36 -0500 (Wed, 19 Feb 2025)
EllapsedTime: 153.1 seconds
RetCode: 0
Status: OK
PackageFile: skewr_1.39.0.tar.gz
PackageFileSize: 767.9 <A href="http://en.wikipedia.org/wiki/KiB" target="_blank">KiB</A>