Package: skewr Version: 1.39.0 Command: rm -rf skewr.buildbin-libdir && mkdir skewr.buildbin-libdir && /Users/biocbuild/BBS/utils/build-universal.sh skewr_1.39.0.tar.gz /Library/Frameworks/R.framework/Resources/bin/R skewr.buildbin-libdir StartedAt: 2025-02-20 00:55:39 -0500 (Thu, 20 Feb 2025) EndedAt: 2025-02-20 00:56:49 -0500 (Thu, 20 Feb 2025) EllapsedTime: 70.5 seconds RetCode: 0 Status: OK PackageFile: skewr_1.39.0.tgz PackageFileSize: 760.1 <A href="http://en.wikipedia.org/wiki/KiB" target="_blank">KiB</A>