Package: skewr Version: 1.39.0 Command: /Library/Frameworks/R.framework/Resources/bin/R CMD build --keep-empty-dirs --no-resave-data skewr StartedAt: 2025-02-19 17:39:49 -0500 (Wed, 19 Feb 2025) EndedAt: 2025-02-19 17:40:55 -0500 (Wed, 19 Feb 2025) EllapsedTime: 65.8 seconds RetCode: 0 Status: OK PackageFile: skewr_1.39.0.tar.gz PackageFileSize: 767.3 <A href="http://en.wikipedia.org/wiki/KiB" target="_blank">KiB</A>