##############################################################################
##############################################################################
###
### Running command:
###
###   rm -rf skewr.buildbin-libdir && mkdir skewr.buildbin-libdir && /Users/biocbuild/BBS/utils/build-universal.sh skewr_1.39.0.tar.gz /Library/Frameworks/R.framework/Resources/bin/R skewr.buildbin-libdir
###
##############################################################################
##############################################################################


>>>>>>> 
>>>>>>> INSTALLATION WITH 'R CMD INSTALL --preclean --no-multiarch --library=skewr.buildbin-libdir skewr_1.39.0.tar.gz'
>>>>>>> 

* installing *source* package ‘skewr’ ...
** this is package ‘skewr’ version ‘1.39.0’
** using staged installation
** R
** inst
** byte-compile and prepare package for lazy loading
No methods found in package ‘RSQLite’ for request: ‘dbListFields’ when loading ‘lumi’
** help
*** installing help indices
** building package indices
** installing vignettes
** testing if installed package can be loaded from temporary location
No methods found in package ‘RSQLite’ for request: ‘dbListFields’ when loading ‘lumi’
** testing if installed package can be loaded from final location
No methods found in package ‘RSQLite’ for request: ‘dbListFields’ when loading ‘lumi’
** testing if installed package keeps a record of temporary installation path
* DONE (skewr)