Package: sitePath
Version: 1.23.0
Maintainer: Chengyang Ji
MaintainerEmail: chengyang.ji12 at alumni.xjtlu.edu.cn
git_url: https://git.bioconductor.org/packages/sitePath
git_branch: devel
git_last_commit: abc9ced
git_last_commit_date: 2024-10-29 10:36:06 -0500 (Tue, 29 Oct 2024)