Package: signeR Version: 2.9.0 Command: E:\biocbuild\bbs-3.21-bioc\R\bin\R.exe CMD INSTALL signeR StartedAt: 2025-01-31 16:52:58 -0500 (Fri, 31 Jan 2025) EndedAt: 2025-01-31 16:55:07 -0500 (Fri, 31 Jan 2025) EllapsedTime: 128.1 seconds RetCode: 0 Status: OK