Package: signeR Version: 2.9.0 Command: /home/biocbuild/bbs-3.21-bioc/R/bin/R CMD check --install=check:signeR.install-out.txt --library=/home/biocbuild/bbs-3.21-bioc/R/site-library --timings signeR_2.9.0.tar.gz StartedAt: 2025-02-01 02:34:50 -0500 (Sat, 01 Feb 2025) EndedAt: 2025-02-01 02:44:14 -0500 (Sat, 01 Feb 2025) EllapsedTime: 563.8 seconds RetCode: 0 Status: OK CheckDir: signeR.Rcheck Warnings: 0