Package: sights
Version: 1.33.0
Command: /home/biocbuild/R/R/bin/R CMD check --install=check:sights.install-out.txt --library=/home/biocbuild/R/R/site-library --no-vignettes --timings sights_1.33.0.tar.gz
StartedAt: 2025-01-28 15:19:38 -0000 (Tue, 28 Jan 2025)
EndedAt: 2025-01-28 15:21:50 -0000 (Tue, 28 Jan 2025)
EllapsedTime: 132.1 seconds
RetCode: 0
Status: OK
CheckDir: sights.Rcheck
Warnings: 0