Package: sights
Version: 1.33.0
Command: /home/biocbuild/R/R/bin/R CMD build --keep-empty-dirs --no-resave-data sights
StartedAt: 2025-01-29 02:21:38 -0000 (Wed, 29 Jan 2025)
EndedAt: 2025-01-29 02:22:34 -0000 (Wed, 29 Jan 2025)
EllapsedTime: 55.1 seconds
RetCode: 0
Status: OK
PackageFile: sights_1.33.0.tar.gz
PackageFileSize: 3.909 <A href="http://en.wikipedia.org/wiki/MiB" target="_blank">MiB</A>