Package: sevenC
Version: 1.27.0
Command: /home/biocbuild/bbs-3.21-bioc/R/bin/R CMD check --install=check:sevenC.install-out.txt --library=/home/biocbuild/bbs-3.21-bioc/R/site-library --timings sevenC_1.27.0.tar.gz
StartedAt: 2025-02-17 02:13:55 -0500 (Mon, 17 Feb 2025)
EndedAt: 2025-02-17 02:18:15 -0500 (Mon, 17 Feb 2025)
EllapsedTime: 259.5 seconds
RetCode: 0
Status: OK
CheckDir: sevenC.Rcheck
Warnings: 0