Package: seahtrue
Version: 1.1.0
Maintainer: Vincent de Boer
MaintainerEmail: vincent.deboer at wur.nl
git_url: https://git.bioconductor.org/packages/seahtrue
git_branch: devel
git_last_commit: c5c897f
git_last_commit_date: 2024-10-29 11:32:56 -0500 (Tue, 29 Oct 2024)