Package: scds
Version: 1.23.0
Maintainer: Dennis Kostka
MaintainerEmail: kostka at pitt.edu
git_url: https://git.bioconductor.org/packages/scds
git_branch: devel
git_last_commit: f0cf1fa
git_last_commit_date: 2024-10-29 10:35:04 -0500 (Tue, 29 Oct 2024)