Package: scTHI Version: 1.19.0 Command: rm -rf scTHI.buildbin-libdir && mkdir scTHI.buildbin-libdir && E:\biocbuild\bbs-3.21-bioc\R\bin\R.exe CMD INSTALL --build --library=scTHI.buildbin-libdir scTHI_1.19.0.tar.gz StartedAt: 2025-02-05 08:52:57 -0500 (Wed, 05 Feb 2025) EndedAt: 2025-02-05 08:53:08 -0500 (Wed, 05 Feb 2025) EllapsedTime: 11.0 seconds RetCode: 0 Status: OK PackageFile: scTHI_1.19.0.zip PackageFileSize: 571.5 KiB