Package: scTHI
Version: 1.19.0
Command: /home/biocbuild/R/R/bin/R CMD INSTALL scTHI
StartedAt: 2025-01-29 19:45:33 -0000 (Wed, 29 Jan 2025)
EndedAt: 2025-01-29 19:45:36 -0000 (Wed, 29 Jan 2025)
EllapsedTime: 3.5 seconds
RetCode: 0
Status: OK