Package: scTHI
Version: 1.19.0
Command: /home/biocbuild/R/R/bin/R CMD check --install=check:scTHI.install-out.txt --library=/home/biocbuild/R/R/site-library --no-vignettes --timings scTHI_1.19.0.tar.gz
StartedAt: 2025-01-28 15:10:05 -0000 (Tue, 28 Jan 2025)
EndedAt: 2025-01-28 15:11:26 -0000 (Tue, 28 Jan 2025)
EllapsedTime: 80.1 seconds
RetCode: 0
Status: OK
CheckDir: scTHI.Rcheck
Warnings: 0