Package: scTHI Version: 1.19.0 Command: /Library/Frameworks/R.framework/Resources/bin/R CMD check --install=check:scTHI.install-out.txt --library=/Library/Frameworks/R.framework/Resources/library --no-vignettes --timings scTHI_1.19.0.tar.gz StartedAt: 2025-02-04 21:18:52 -0500 (Tue, 04 Feb 2025) EndedAt: 2025-02-04 21:19:19 -0500 (Tue, 04 Feb 2025) EllapsedTime: 27.3 seconds RetCode: 0 Status: OK CheckDir: scTHI.Rcheck Warnings: 0