Package: scRNAseqApp Version: 1.7.11 Command: /Library/Frameworks/R.framework/Resources/bin/R CMD INSTALL scRNAseqApp StartedAt: 2025-02-19 15:32:03 -0500 (Wed, 19 Feb 2025) EndedAt: 2025-02-19 15:33:27 -0500 (Wed, 19 Feb 2025) EllapsedTime: 83.7 seconds RetCode: 0 Status: OK