Package: scRNAseqApp
Version: 1.7.11
Command: /Library/Frameworks/R.framework/Resources/bin/R CMD build --keep-empty-dirs --no-resave-data scRNAseqApp
StartedAt: 2025-02-19 18:12:13 -0500 (Wed, 19 Feb 2025)
EndedAt: 2025-02-19 18:14:02 -0500 (Wed, 19 Feb 2025)
EllapsedTime: 109.5 seconds
RetCode: 0
Status: OK
PackageFile: scRNAseqApp_1.7.11.tar.gz
PackageFileSize: 2.195 <A href="http://en.wikipedia.org/wiki/MiB" target="_blank">MiB</A>