Package: scRNAseqApp Version: 1.7.11 Command: rm -rf scRNAseqApp.buildbin-libdir && mkdir scRNAseqApp.buildbin-libdir && /Users/biocbuild/BBS/utils/build-universal.sh scRNAseqApp_1.7.11.tar.gz /Library/Frameworks/R.framework/Resources/bin/R scRNAseqApp.buildbin-libdir StartedAt: 2025-02-20 00:53:53 -0500 (Thu, 20 Feb 2025) EndedAt: 2025-02-20 00:55:20 -0500 (Thu, 20 Feb 2025) EllapsedTime: 87.7 seconds RetCode: 0 Status: OK PackageFile: scRNAseqApp_1.7.11.tgz PackageFileSize: 3.54 <A href="http://en.wikipedia.org/wiki/MiB" target="_blank">MiB</A>