Package: scRNAseqApp Version: 1.7.8 Command: /home/biocbuild/R/R/bin/R CMD INSTALL scRNAseqApp StartedAt: 2025-01-29 20:17:41 -0000 (Wed, 29 Jan 2025) EndedAt: 2025-01-29 20:19:08 -0000 (Wed, 29 Jan 2025) EllapsedTime: 87.0 seconds RetCode: 0 Status: OK