Package: scRNAseqApp Version: 1.7.9 Command: /Library/Frameworks/R.framework/Resources/bin/R CMD check --install=check:scRNAseqApp.install-out.txt --library=/Library/Frameworks/R.framework/Resources/library --no-vignettes --timings scRNAseqApp_1.7.9.tar.gz StartedAt: 2025-02-04 21:17:53 -0500 (Tue, 04 Feb 2025) EndedAt: 2025-02-04 21:20:30 -0500 (Tue, 04 Feb 2025) EllapsedTime: 156.8 seconds RetCode: 1 Status: ERROR CheckDir: scRNAseqApp.Rcheck Warnings: NA