Package: scPipe Version: 2.7.1 Command: /Library/Frameworks/R.framework/Resources/bin/R CMD INSTALL scPipe StartedAt: 2025-02-19 15:28:18 -0500 (Wed, 19 Feb 2025) EndedAt: 2025-02-19 15:31:06 -0500 (Wed, 19 Feb 2025) EllapsedTime: 167.7 seconds RetCode: 0 Status: OK