Package: scPipe
Version: 2.7.1
Command: /Library/Frameworks/R.framework/Resources/bin/R CMD check --install=check:scPipe.install-out.txt --library=/Library/Frameworks/R.framework/Resources/library --no-vignettes --timings scPipe_2.7.1.tar.gz
StartedAt: 2025-02-19 23:07:58 -0500 (Wed, 19 Feb 2025)
EndedAt: 2025-02-19 23:20:06 -0500 (Wed, 19 Feb 2025)
EllapsedTime: 728.0 seconds
RetCode: 0
Status: OK
CheckDir: scPipe.Rcheck
Warnings: 0