Package: scPipe Version: 2.7.1 Command: /Library/Frameworks/R.framework/Resources/bin/R CMD build --keep-empty-dirs --no-resave-data scPipe StartedAt: 2025-02-19 18:10:56 -0500 (Wed, 19 Feb 2025) EndedAt: 2025-02-19 18:26:21 -0500 (Wed, 19 Feb 2025) EllapsedTime: 924.4 seconds RetCode: 0 Status: OK PackageFile: scPipe_2.7.1.tar.gz PackageFileSize: 12.67 <A href="http://en.wikipedia.org/wiki/MiB" target="_blank">MiB</A>