Package: scPipe
Version: 2.7.1
Command: /Library/Frameworks/R.framework/Resources/bin/R CMD INSTALL scPipe
StartedAt: 2025-02-19 15:18:58 -0500 (Wed, 19 Feb 2025)
EndedAt: 2025-02-19 15:19:42 -0500 (Wed, 19 Feb 2025)
EllapsedTime: 44.3 seconds
RetCode: 0
Status: OK