Package: scMerge Version: 1.23.0 Command: /home/biocbuild/bbs-3.21-bioc/R/bin/R CMD check --install=check:scMerge.install-out.txt --library=/home/biocbuild/bbs-3.21-bioc/R/site-library --timings scMerge_1.23.0.tar.gz StartedAt: 2025-02-05 02:29:31 -0500 (Wed, 05 Feb 2025) EndedAt: 2025-02-05 02:39:08 -0500 (Wed, 05 Feb 2025) EllapsedTime: 577.6 seconds RetCode: 0 Status: OK CheckDir: scMerge.Rcheck Warnings: 0