Package: scMerge Version: 1.23.0 Command: /home/biocbuild/bbs-3.21-bioc/R/bin/R CMD build --keep-empty-dirs --no-resave-data scMerge StartedAt: 2025-02-04 19:05:56 -0500 (Tue, 04 Feb 2025) EndedAt: 2025-02-04 19:08:18 -0500 (Tue, 04 Feb 2025) EllapsedTime: 141.1 seconds RetCode: 0 Status: OK PackageFile: scMerge_1.23.0.tar.gz PackageFileSize: 2.936 MiB