Package: scMerge Version: 1.23.0 Command: /Library/Frameworks/R.framework/Resources/bin/R CMD check --install=check:scMerge.install-out.txt --library=/Library/Frameworks/R.framework/Resources/library --no-vignettes --timings scMerge_1.23.0.tar.gz StartedAt: 2025-02-04 23:06:44 -0500 (Tue, 04 Feb 2025) EndedAt: 2025-02-04 23:15:22 -0500 (Tue, 04 Feb 2025) EllapsedTime: 518.3 seconds RetCode: 0 Status: OK CheckDir: scMerge.Rcheck Warnings: 0