Package: scMerge Version: 1.23.0 Command: /Library/Frameworks/R.framework/Resources/bin/R CMD check --install=check:scMerge.install-out.txt --library=/Library/Frameworks/R.framework/Resources/library --no-vignettes --timings scMerge_1.23.0.tar.gz StartedAt: 2025-02-04 21:14:52 -0500 (Tue, 04 Feb 2025) EndedAt: 2025-02-04 21:17:45 -0500 (Tue, 04 Feb 2025) EllapsedTime: 173.0 seconds RetCode: 0 Status: OK CheckDir: scMerge.Rcheck Warnings: 0