Package: scMerge Version: 1.23.0 Command: /Library/Frameworks/R.framework/Resources/bin/R CMD build --keep-empty-dirs --no-resave-data scMerge StartedAt: 2025-02-04 17:32:27 -0500 (Tue, 04 Feb 2025) EndedAt: 2025-02-04 17:33:22 -0500 (Tue, 04 Feb 2025) EllapsedTime: 54.7 seconds RetCode: 0 Status: OK PackageFile: scMerge_1.23.0.tar.gz PackageFileSize: 3.44 MiB