Package: scHOT
Version: 1.19.0
Command: E:\biocbuild\bbs-3.21-bioc\R\bin\R.exe CMD INSTALL scHOT
StartedAt: 2025-02-19 15:52:51 -0500 (Wed, 19 Feb 2025)
EndedAt: 2025-02-19 15:53:32 -0500 (Wed, 19 Feb 2025)
EllapsedTime: 40.9 seconds
RetCode: 0
Status: OK