Package: scHOT
Version: 1.19.0
Command: rm -rf scHOT.buildbin-libdir && mkdir scHOT.buildbin-libdir && E:\biocbuild\bbs-3.21-bioc\R\bin\R.exe CMD INSTALL --build --library=scHOT.buildbin-libdir scHOT_1.19.0.tar.gz
StartedAt: 2025-02-20 08:42:42 -0500 (Thu, 20 Feb 2025)
EndedAt: 2025-02-20 08:43:26 -0500 (Thu, 20 Feb 2025)
EllapsedTime: 44.0 seconds
RetCode: 0
Status: OK
PackageFile: scHOT_1.19.0.zip
PackageFileSize: 2.248 <A href="http://en.wikipedia.org/wiki/MiB" target="_blank">MiB</A>