Package: scHOT
Version: 1.19.0
Command: /home/biocbuild/bbs-3.21-bioc/R/bin/R CMD INSTALL scHOT
StartedAt: 2025-02-19 15:22:37 -0500 (Wed, 19 Feb 2025)
EndedAt: 2025-02-19 15:23:04 -0500 (Wed, 19 Feb 2025)
EllapsedTime: 26.6 seconds
RetCode: 0
Status: OK