Package: scHOT Version: 1.19.0 Command: /home/biocbuild/bbs-3.21-bioc/R/bin/R CMD check --install=check:scHOT.install-out.txt --library=/home/biocbuild/bbs-3.21-bioc/R/site-library --timings scHOT_1.19.0.tar.gz StartedAt: 2025-02-20 02:12:16 -0500 (Thu, 20 Feb 2025) EndedAt: 2025-02-20 02:18:08 -0500 (Thu, 20 Feb 2025) EllapsedTime: 352.3 seconds RetCode: 0 Status: OK CheckDir: scHOT.Rcheck Warnings: 0