Package: scHOT Version: 1.19.0 Command: /Library/Frameworks/R.framework/Resources/bin/R CMD INSTALL scHOT StartedAt: 2025-02-19 15:13:59 -0500 (Wed, 19 Feb 2025) EndedAt: 2025-02-19 15:14:36 -0500 (Wed, 19 Feb 2025) EllapsedTime: 36.8 seconds RetCode: 0 Status: OK