Package: scHOT
Version: 1.19.0
Command: rm -rf scHOT.buildbin-libdir && mkdir scHOT.buildbin-libdir && /Users/biocbuild/BBS/utils/build-universal.sh scHOT_1.19.0.tar.gz /Library/Frameworks/R.framework/Resources/bin/R scHOT.buildbin-libdir
StartedAt: 2025-02-20 00:53:18 -0500 (Thu, 20 Feb 2025)
EndedAt: 2025-02-20 00:53:59 -0500 (Thu, 20 Feb 2025)
EllapsedTime: 41.5 seconds
RetCode: 0
Status: OK
PackageFile: scHOT_1.19.0.tgz
PackageFileSize: 2.697 <A href="http://en.wikipedia.org/wiki/MiB" target="_blank">MiB</A>