Package: scHOT Version: 1.19.0 Command: /Library/Frameworks/R.framework/Resources/bin/R CMD build --keep-empty-dirs --no-resave-data scHOT StartedAt: 2025-02-19 17:32:47 -0500 (Wed, 19 Feb 2025) EndedAt: 2025-02-19 17:33:30 -0500 (Wed, 19 Feb 2025) EllapsedTime: 42.5 seconds RetCode: 0 Status: OK PackageFile: scHOT_1.19.0.tar.gz PackageFileSize: 2.314 <A href="http://en.wikipedia.org/wiki/MiB" target="_blank">MiB</A>