Package: scDataviz
Version: 1.17.0
Maintainer: Kevin Blighe
MaintainerEmail: kevin at clinicalbioinformatics.co.uk
git_url: https://git.bioconductor.org/packages/scDataviz
git_branch: devel
git_last_commit: e17aeed
git_last_commit_date: 2024-10-29 10:48:36 -0500 (Tue, 29 Oct 2024)