Package: sarks
Version: 1.19.0
Maintainer: Dennis Wylie
MaintainerEmail: denniscwylie at gmail.com
git_url: https://git.bioconductor.org/packages/sarks
git_branch: devel
git_last_commit: 8b05f9a
git_last_commit_date: 2024-10-29 10:44:07 -0500 (Tue, 29 Oct 2024)