Package: sampleClassifier Version: 1.31.0 Command: E:\biocbuild\bbs-3.21-bioc\R\bin\R.exe CMD INSTALL sampleClassifier StartedAt: 2025-02-19 15:59:51 -0500 (Wed, 19 Feb 2025) EndedAt: 2025-02-19 16:00:32 -0500 (Wed, 19 Feb 2025) EllapsedTime: 40.6 seconds RetCode: 0 Status: OK