Package: sampleClassifier Version: 1.31.0 Command: E:\biocbuild\bbs-3.21-bioc\R\bin\R.exe CMD check --no-multiarch --install=check:sampleClassifier.install-out.txt --library=E:\biocbuild\bbs-3.21-bioc\R\library --no-vignettes --timings sampleClassifier_1.31.0.tar.gz StartedAt: 2025-02-20 04:59:24 -0500 (Thu, 20 Feb 2025) EndedAt: 2025-02-20 05:04:24 -0500 (Thu, 20 Feb 2025) EllapsedTime: 300.0 seconds RetCode: 0 Status: OK CheckDir: sampleClassifier.Rcheck Warnings: 0