Package: sampleClassifier Version: 1.31.0 Command: chmod a+r sampleClassifier -R && E:\biocbuild\bbs-3.21-bioc\R\bin\R.exe CMD build --keep-empty-dirs --no-resave-data sampleClassifier StartedAt: 2025-02-19 21:22:20 -0500 (Wed, 19 Feb 2025) EndedAt: 2025-02-19 21:25:33 -0500 (Wed, 19 Feb 2025) EllapsedTime: 193.1 seconds RetCode: 0 Status: OK PackageFile: sampleClassifier_1.31.0.tar.gz PackageFileSize: 238.5 <A href="http://en.wikipedia.org/wiki/KiB" target="_blank">KiB</A>