Package: sampleClassifier Version: 1.31.0 Command: rm -rf sampleClassifier.buildbin-libdir && mkdir sampleClassifier.buildbin-libdir && E:\biocbuild\bbs-3.21-bioc\R\bin\R.exe CMD INSTALL --build --library=sampleClassifier.buildbin-libdir sampleClassifier_1.31.0.tar.gz StartedAt: 2025-02-20 08:40:25 -0500 (Thu, 20 Feb 2025) EndedAt: 2025-02-20 08:40:51 -0500 (Thu, 20 Feb 2025) EllapsedTime: 26.3 seconds RetCode: 0 Status: OK PackageFile: sampleClassifier_1.31.0.zip PackageFileSize: 273.9 <A href="http://en.wikipedia.org/wiki/KiB" target="_blank">KiB</A>