Package: sagenhaft
Version: 1.77.0
Command: /home/biocbuild/R/R/bin/R CMD INSTALL sagenhaft
StartedAt: 2025-01-29 19:33:07 -0000 (Wed, 29 Jan 2025)
EndedAt: 2025-01-29 19:33:32 -0000 (Wed, 29 Jan 2025)
EllapsedTime: 25.0 seconds
RetCode: 0
Status: OK