Package: sagenhaft
Version: 1.77.0
Command: /home/biocbuild/R/R/bin/R CMD build --keep-empty-dirs --no-resave-data sagenhaft
StartedAt: 2025-01-29 01:56:01 -0000 (Wed, 29 Jan 2025)
EndedAt: 2025-01-29 01:56:11 -0000 (Wed, 29 Jan 2025)
EllapsedTime: 10.0 seconds
RetCode: 0
Status: OK
PackageFile: sagenhaft_1.77.0.tar.gz
PackageFileSize: 2.586 <A href="http://en.wikipedia.org/wiki/MiB" target="_blank">MiB</A>