Package: sagenhaft
Version: 1.77.0
Command: /Library/Frameworks/R.framework/Resources/bin/R CMD INSTALL sagenhaft
StartedAt: 2025-02-19 15:02:26 -0500 (Wed, 19 Feb 2025)
EndedAt: 2025-02-19 15:02:34 -0500 (Wed, 19 Feb 2025)
EllapsedTime: 7.8 seconds
RetCode: 0
Status: OK