Package: sagenhaft Version: 1.77.0 Command: /Library/Frameworks/R.framework/Resources/bin/R CMD build --keep-empty-dirs --no-resave-data sagenhaft StartedAt: 2025-02-19 17:29:46 -0500 (Wed, 19 Feb 2025) EndedAt: 2025-02-19 17:29:51 -0500 (Wed, 19 Feb 2025) EllapsedTime: 5.1 seconds RetCode: 0 Status: OK PackageFile: sagenhaft_1.77.0.tar.gz PackageFileSize: 2.583 <A href="http://en.wikipedia.org/wiki/MiB" target="_blank">MiB</A>