Package: rhdf5
Version: 2.51.2
Maintainer: Mike Smith
MaintainerEmail: mike.smith at embl.de
git_url: https://git.bioconductor.org/packages/rhdf5
git_branch: devel
git_last_commit: 225a6fb
git_last_commit_date: 2025-01-08 04:40:46 -0500 (Wed, 08 Jan 2025)