Package: rgoslin
Version: 1.11.0
Command: E:\biocbuild\bbs-3.21-bioc\R\bin\R.exe CMD INSTALL rgoslin
StartedAt: 2025-02-19 17:01:53 -0500 (Wed, 19 Feb 2025)
EndedAt: 2025-02-19 17:04:17 -0500 (Wed, 19 Feb 2025)
EllapsedTime: 144.4 seconds
RetCode: 0
Status: OK