Package: rgoslin
Version: 1.11.0
Command: E:\biocbuild\bbs-3.21-bioc\R\bin\R.exe CMD check --no-multiarch --install=check:rgoslin.install-out.txt --library=E:\biocbuild\bbs-3.21-bioc\R\library --no-vignettes --timings rgoslin_1.11.0.tar.gz
StartedAt: 2025-02-20 04:41:41 -0500 (Thu, 20 Feb 2025)
EndedAt: 2025-02-20 04:42:35 -0500 (Thu, 20 Feb 2025)
EllapsedTime: 53.9 seconds
RetCode: 0
Status: OK
CheckDir: rgoslin.Rcheck
Warnings: 0